BEGIN:VCALENDAR
VERSION:2.0
PRODID:-//demosphere.net//NONSGML kigkonsult.se iCalcreator 2.22.1//
METHOD:REQUEST
X-WR-TIMEZONE:Europe/Athens
BEGIN:VEVENT
UID:https://thessaloniki.kinimatorama.net/event/34485
DTSTAMP:20131205T070000Z
DESCRIPTION:περισσότερες πληροφορίες: https://thessaloniki.kinimatorama.net
 /event/34485 
DTSTART:20131205T070000Z
DTEND:20131205T080000Z
GEO:+37.995376;+23.743086
LOCATION:Αθήνα\, \nΔικαστήρια Ευελπίδων
SUMMARY:Συγκέντρωση στη δίκη των μπάτσων που εισέβαλαν στα γραφεία του Δικτ
 ύου
URL:https://thessaloniki.kinimatorama.net/event/34485
END:VEVENT
END:VCALENDAR
