BEGIN:VCALENDAR
VERSION:2.0
PRODID:-//demosphere.net//NONSGML kigkonsult.se iCalcreator 2.22.1//
METHOD:REQUEST
X-WR-TIMEZONE:Europe/Athens
BEGIN:VEVENT
UID:https://thessaloniki.kinimatorama.net/event/34538
DTSTAMP:20131206T160000Z
DESCRIPTION:περισσότερες πληροφορίες: https://thessaloniki.kinimatorama.net
 /event/34538 
DTSTART:20131206T160000Z
DTEND:20131206T170000Z
GEO:+39.555039;+21.767766
LOCATION:Τρίκαλα\, \nΠλατεία Ρήγα Φεραίου
SUMMARY:Διαδήλωση για τον Αλέξανδρο Γρηγορόπουλο
URL:https://thessaloniki.kinimatorama.net/event/34538
END:VEVENT
END:VCALENDAR
