BEGIN:VCALENDAR
VERSION:2.0
PRODID:-//demosphere.net//NONSGML kigkonsult.se iCalcreator 2.22.1//
METHOD:REQUEST
X-WR-TIMEZONE:Europe/Athens
BEGIN:VEVENT
UID:https://thessaloniki.kinimatorama.net/event/34816
DTSTAMP:20131214T210000Z
DESCRIPTION:περισσότερες πληροφορίες: https://thessaloniki.kinimatorama.net
 /event/34816 
DTSTART:20131214T210000Z
DTEND:20131214T220000Z
GEO:+40.633903;+22.95648
LOCATION:Θεσσαλονίκη\, \nΣχολή Θετικών Επιστημών (ΣΘΕ) ΑΠΘ
SUMMARY:Πάρτυ οικονομικής ενίσχυσης για τη δημιουργία στεκιού στο Μαθηματικ
 ό
URL:https://thessaloniki.kinimatorama.net/event/34816
END:VEVENT
END:VCALENDAR
