BEGIN:VCALENDAR
VERSION:2.0
PRODID:-//demosphere.net//NONSGML kigkonsult.se iCalcreator 2.22.1//
METHOD:REQUEST
X-WR-TIMEZONE:Europe/Athens
BEGIN:VEVENT
UID:https://thessaloniki.kinimatorama.net/event/3540
DTSTAMP:20100518T163000Z
DESCRIPTION:περισσότερες πληροφορίες: https://thessaloniki.kinimatorama.net
 /event/3540 
DTSTART:20100518T163000Z
DTEND:20100518T173000Z
GEO:+38.00095;+23.737762
LOCATION:Αθήνα\, \nΔημοτική Αγορά Κυψέλης \nΦωκίωνος Νέγρη 42
SUMMARY:Ενημέρωση για την αντιδιάσκεψη για την κλιματική αλλαγή στην Κοτσαμ
 πάμπα
URL:https://thessaloniki.kinimatorama.net/event/3540
END:VEVENT
END:VCALENDAR
