BEGIN:VCALENDAR
VERSION:2.0
PRODID:-//demosphere.net//NONSGML kigkonsult.se iCalcreator 2.22.1//
METHOD:REQUEST
X-WR-TIMEZONE:Europe/Athens
BEGIN:VEVENT
UID:https://thessaloniki.kinimatorama.net/event/35630
DTSTAMP:20140118T160000Z
DESCRIPTION:περισσότερες πληροφορίες: https://thessaloniki.kinimatorama.net
 /event/35630 
DTSTART:20140118T160000Z
DTEND:20140118T170000Z
GEO:+37.97569;+23.772792
LOCATION:Ζωγράφου\, \nΠάρκο Ειρήνης \nείσοδος από οδό Γ.Ζωγράφου 13 \nΛεωφο
 ρεία: 608\,235 \nστάση: 6η Ζωγράφου
SUMMARY:Το καφενείο του άλλου: Προβολή Το Δικαστήριο Φουκώ (Foucault tribun
 al)
URL:https://thessaloniki.kinimatorama.net/event/35630
END:VEVENT
END:VCALENDAR
