BEGIN:VCALENDAR
VERSION:2.0
PRODID:-//demosphere.net//NONSGML kigkonsult.se iCalcreator 2.22.1//
METHOD:REQUEST
X-WR-TIMEZONE:Europe/Athens
BEGIN:VEVENT
UID:https://thessaloniki.kinimatorama.net/event/36217
DTSTAMP:20140130T170000Z
DESCRIPTION:περισσότερες πληροφορίες: https://thessaloniki.kinimatorama.net
 /event/36217 
DTSTART:20140130T170000Z
DTEND:20140130T180000Z
GEO:+35.341459;+25.132416
LOCATION:Ηράκλειο\, \nΚατάληψη Ευαγγελισμού \nΘεοτοκοπούλου 18
SUMMARY:Καφενείο και παρουσίαση  του ημερολογίου 2014
URL:https://thessaloniki.kinimatorama.net/event/36217
END:VEVENT
END:VCALENDAR
