BEGIN:VCALENDAR
VERSION:2.0
PRODID:-//demosphere.net//NONSGML kigkonsult.se iCalcreator 2.22.1//
METHOD:REQUEST
X-WR-TIMEZONE:Europe/Athens
BEGIN:VEVENT
UID:https://thessaloniki.kinimatorama.net/event/3641
DTSTAMP:20100522T180000Z
DESCRIPTION:περισσότερες πληροφορίες: https://thessaloniki.kinimatorama.net
 /event/3641 
DTSTART:20100522T180000Z
DTEND:20100522T190000Z
GEO:+37.989867;+23.735633
LOCATION:Αθήνα\, \nΥπόγα Κ94 \nΚαλλιδρομίου 94 \nΕξάρχεια
SUMMARY:Συναυλία: Last Rizla\, Stonenrow\, Sadhus\, 45Rats
URL:https://thessaloniki.kinimatorama.net/event/3641
END:VEVENT
END:VCALENDAR
