BEGIN:VCALENDAR
VERSION:2.0
PRODID:-//demosphere.net//NONSGML kigkonsult.se iCalcreator 2.22.1//
METHOD:REQUEST
X-WR-TIMEZONE:Europe/Athens
BEGIN:VEVENT
UID:https://thessaloniki.kinimatorama.net/event/3662
DTSTAMP:20100528T180000Z
DESCRIPTION:περισσότερες πληροφορίες: https://thessaloniki.kinimatorama.net
 /event/3662 
DTSTART:20100528T180000Z
DTEND:20100528T190000Z
GEO:+38.00095;+23.737762
LOCATION:Αθήνα\, \nΔημοτική Αγορά Κυψέλης \nΦωκίωνος Νέγρη 42
SUMMARY:Προβολή: Οι άνθρωποι της LIP - Η φαντασία στην Εξουσία
URL:https://thessaloniki.kinimatorama.net/event/3662
END:VEVENT
END:VCALENDAR
