BEGIN:VCALENDAR
VERSION:2.0
PRODID:-//demosphere.net//NONSGML kigkonsult.se iCalcreator 2.22.1//
METHOD:REQUEST
X-WR-TIMEZONE:Europe/Athens
BEGIN:VEVENT
UID:https://thessaloniki.kinimatorama.net/event/36781
DTSTAMP:20140216T100000Z
DESCRIPTION:περισσότερες πληροφορίες: https://thessaloniki.kinimatorama.net
 /event/36781 
DTSTART:20140216T100000Z
DTEND:20140216T110000Z
GEO:+37.984156;+23.735238
LOCATION:Αθήνα\, \nΑυτοδιαχειριζόμενο Πάρκο Ναυαρίνου \nΝαυαρίνου & Ζωοδόχο
 υ Πηγής \nΕξάρχεια
SUMMARY:Συνάντηση γνωριμίας για τη δημιουργία ομάδας περιβολιού
URL:https://thessaloniki.kinimatorama.net/event/36781
END:VEVENT
END:VCALENDAR
