BEGIN:VCALENDAR
VERSION:2.0
PRODID:-//demosphere.net//NONSGML kigkonsult.se iCalcreator 2.22.1//
METHOD:REQUEST
X-WR-TIMEZONE:Europe/Athens
BEGIN:VEVENT
UID:https://thessaloniki.kinimatorama.net/event/36977
DTSTAMP:20140218T100000Z
DESCRIPTION:περισσότερες πληροφορίες: https://thessaloniki.kinimatorama.net
 /event/36977 
DTSTART:20140218T100000Z
DTEND:20140218T110000Z
GEO:+40.639326;+22.932823
LOCATION:Θεσσαλονίκη\, \nΔικαστήρια Θεσσαλονίκης
SUMMARY:Κάλεσμα αλληλεγγύης στον αγωνιστή Hasan Kosar (Τσετίν) 
URL:https://thessaloniki.kinimatorama.net/event/36977
END:VEVENT
END:VCALENDAR
