BEGIN:VCALENDAR
VERSION:2.0
PRODID:-//demosphere.net//NONSGML kigkonsult.se iCalcreator 2.22.1//
METHOD:REQUEST
X-WR-TIMEZONE:Europe/Athens
BEGIN:VEVENT
UID:https://thessaloniki.kinimatorama.net/event/37565
DTSTAMP:20140311T190000Z
DESCRIPTION:περισσότερες πληροφορίες: https://thessaloniki.kinimatorama.net
 /event/37565 
DTSTART:20140311T190000Z
DTEND:20140311T200000Z
GEO:+35.341459;+25.132416
LOCATION:Ηράκλειο\, \nΚατάληψη Ευαγγελισμού \nΘεοτοκοπούλου 18
SUMMARY:Συνέλευση αλληλεγγύης για τις  διώξεις των  πολιτικών προσφύγων
URL:https://thessaloniki.kinimatorama.net/event/37565
END:VEVENT
END:VCALENDAR
