BEGIN:VCALENDAR
VERSION:2.0
PRODID:-//demosphere.net//NONSGML kigkonsult.se iCalcreator 2.22.1//
METHOD:REQUEST
X-WR-TIMEZONE:Europe/Athens
BEGIN:VEVENT
UID:https://thessaloniki.kinimatorama.net/event/37660
DTSTAMP:20140326T190000Z
DESCRIPTION:περισσότερες πληροφορίες: https://thessaloniki.kinimatorama.net
 /event/37660 
DTSTART:20140326T190000Z
DTEND:20140326T200000Z
GEO:+39.664199;+20.8541
LOCATION:Ιωάννινα\, \nΑυτοδιαχειριζόμενος Κοινωνικός Χώρος Ιωαννίνων \n( ΑΚ
 ΟΙΧΙ ) \nΠλατεία Νεομάρτυρος Ιωάννη 5 \n(κάτω από το δημοτικό ωδείο)
SUMMARY:Ανοιχτή διαχειριστική συνέλευση Α.Κοι.Χ.Ι.
URL:https://thessaloniki.kinimatorama.net/event/37660
END:VEVENT
END:VCALENDAR
