BEGIN:VCALENDAR
VERSION:2.0
PRODID:-//demosphere.net//NONSGML kigkonsult.se iCalcreator 2.22.1//
METHOD:REQUEST
X-WR-TIMEZONE:Europe/Athens
BEGIN:VEVENT
UID:https://thessaloniki.kinimatorama.net/event/38790
DTSTAMP:20140417T150000Z
DESCRIPTION:περισσότερες πληροφορίες: https://thessaloniki.kinimatorama.net
 /event/38790 
DTSTART:20140417T150000Z
DTEND:20140417T160000Z
GEO:+37.989867;+23.735633
LOCATION:Αθήνα\, \nΥπόγα Κ94 \nΚαλλιδρομίου 94 \nΕξάρχεια
SUMMARY:Μetal καφενείο
URL:https://thessaloniki.kinimatorama.net/event/38790
END:VEVENT
END:VCALENDAR
