BEGIN:VCALENDAR
VERSION:2.0
PRODID:-//demosphere.net//NONSGML kigkonsult.se iCalcreator 2.22.1//
METHOD:REQUEST
X-WR-TIMEZONE:Europe/Athens
BEGIN:VEVENT
UID:https://thessaloniki.kinimatorama.net/event/38792
DTSTAMP:20140501T150000Z
DESCRIPTION:περισσότερες πληροφορίες: https://thessaloniki.kinimatorama.net
 /event/38792 
DTSTART:20140501T150000Z
DTEND:20140501T160000Z
GEO:+37.989867;+23.735633
LOCATION:Αθήνα\, \nΥπόγα Κ94 \nΚαλλιδρομίου 94 \nΕξάρχεια
SUMMARY:Συνέλευση-απεργιακό metal καφενείο-προβολή ταινίας School of rock
URL:https://thessaloniki.kinimatorama.net/event/38792
END:VEVENT
END:VCALENDAR
