BEGIN:VCALENDAR
VERSION:2.0
PRODID:-//demosphere.net//NONSGML kigkonsult.se iCalcreator 2.22.1//
METHOD:REQUEST
X-WR-TIMEZONE:Europe/Athens
BEGIN:VEVENT
UID:https://thessaloniki.kinimatorama.net/event/38898
DTSTAMP:20140503T093000Z
DESCRIPTION:περισσότερες πληροφορίες: https://thessaloniki.kinimatorama.net
 /event/38898 
DTSTART:20140503T093000Z
DTEND:20140503T103000Z
GEO:+37.96544;+23.760477
LOCATION:Καισαριανή\, \nμνημείο Σκοπευτηρίου Καισαριανής \nλεωφορείο 214: σ
 τάση 8η ΦΟΡΜΙΩΝΟΣ \nλεωφορείο 224: στάση 8η ΚΑΙΣΑΡΙΑΝΗΣ \nτρόλλευ 11 (ολον
 ύχτιo): στάση ΔΗΜΑΡΧΕΙΟ \nκοντινότερο μετρό: Στ. Ευαγγελισμού
SUMMARY:Εκδήλωση στη μνήμη των 200 εκτελεσθέντων αγωνιστών της Καισαριανής
URL:https://thessaloniki.kinimatorama.net/event/38898
END:VEVENT
END:VCALENDAR
