BEGIN:VCALENDAR
VERSION:2.0
PRODID:-//demosphere.net//NONSGML kigkonsult.se iCalcreator 2.22.1//
METHOD:REQUEST
X-WR-TIMEZONE:Europe/Athens
BEGIN:VEVENT
UID:https://thessaloniki.kinimatorama.net/event/39331
DTSTAMP:20140509T150000Z
DESCRIPTION:περισσότερες πληροφορίες: https://thessaloniki.kinimatorama.net
 /event/39331 
DTSTART:20140509T150000Z
DTEND:20140509T160000Z
GEO:+37.994079;+23.732083
LOCATION:Αθήνα\, \nΑΣΟΕΕ \nΠατησίων 76 (28ης Οκτωβρίου) \n(πλησίον σταθμού 
 ΗΣΑΠ Βικτώρια)
SUMMARY:2ήμερο εκδηλώσεων για τις φυλακές και τις δομές οργάνωσης μέσα σ' α
 υτές
URL:https://thessaloniki.kinimatorama.net/event/39331
END:VEVENT
END:VCALENDAR
