BEGIN:VCALENDAR
VERSION:2.0
PRODID:-//demosphere.net//NONSGML kigkonsult.se iCalcreator 2.22.1//
METHOD:REQUEST
X-WR-TIMEZONE:Europe/Athens
BEGIN:VEVENT
UID:https://thessaloniki.kinimatorama.net/event/40010
DTSTAMP:20140508T070000Z
DESCRIPTION:περισσότερες πληροφορίες: https://thessaloniki.kinimatorama.net
 /event/40010 
DTSTART:20140508T070000Z
DTEND:20140508T080000Z
GEO:+40.639326;+22.932823
LOCATION:Θεσσαλονίκη\, \nΔικαστήρια Θεσσαλονίκης
SUMMARY:Ενάντια στην έκδοση του Mehmet Yaman (Μουσταφά) στην Τουρκία
URL:https://thessaloniki.kinimatorama.net/event/40010
END:VEVENT
END:VCALENDAR
