BEGIN:VCALENDAR
VERSION:2.0
PRODID:-//demosphere.net//NONSGML kigkonsult.se iCalcreator 2.22.1//
METHOD:REQUEST
X-WR-TIMEZONE:Europe/Athens
BEGIN:VEVENT
UID:https://thessaloniki.kinimatorama.net/event/40350
DTSTAMP:20140531T190000Z
DESCRIPTION:περισσότερες πληροφορίες: https://thessaloniki.kinimatorama.net
 /event/40350 
DTSTART:20140531T190000Z
DTEND:20140531T200000Z
GEO:+39.668568;+20.859894
LOCATION:Ιωάννινα\, \nΘεατράκι σκάλας
SUMMARY:Antifa Live
URL:https://thessaloniki.kinimatorama.net/event/40350
END:VEVENT
END:VCALENDAR
