BEGIN:VCALENDAR
VERSION:2.0
PRODID:-//demosphere.net//NONSGML kigkonsult.se iCalcreator 2.22.1//
METHOD:REQUEST
X-WR-TIMEZONE:Europe/Athens
BEGIN:VEVENT
UID:https://thessaloniki.kinimatorama.net/event/4039
DTSTAMP:20100613T153000Z
DESCRIPTION:περισσότερες πληροφορίες: https://thessaloniki.kinimatorama.net
 /event/4039 
DTSTART:20100613T153000Z
DTEND:20100613T163000Z
GEO:+38.00095;+23.737762
LOCATION:Αθήνα\, \nΔημοτική Αγορά Κυψέλης \nΦωκίωνος Νέγρη 42
SUMMARY:Ενημέρωση για το Νόμο για την Ελληνική Ιθαγένεια και τα Πολιτικά Δι
 καιώματα
URL:https://thessaloniki.kinimatorama.net/event/4039
END:VEVENT
END:VCALENDAR
