BEGIN:VCALENDAR
VERSION:2.0
PRODID:-//demosphere.net//NONSGML kigkonsult.se iCalcreator 2.22.1//
METHOD:REQUEST
X-WR-TIMEZONE:Europe/Athens
BEGIN:VEVENT
UID:https://thessaloniki.kinimatorama.net/event/4077
DTSTAMP:20100620T140000Z
DESCRIPTION:περισσότερες πληροφορίες: https://thessaloniki.kinimatorama.net
 /event/4077 
DTSTART:20100620T140000Z
DTEND:20100620T150000Z
GEO:+35.517819;+24.019203
LOCATION:Χανιά\, \nΚατάληψη Rosa Nera \nΛόφος Καστέλι\, Παλιό λιμάνι
SUMMARY:4ήμερο εκδηλώσεων για τα 6 χρόνια της κατάληψης Rosa Nera
URL:https://thessaloniki.kinimatorama.net/event/4077
END:VEVENT
END:VCALENDAR
