BEGIN:VCALENDAR
VERSION:2.0
PRODID:-//demosphere.net//NONSGML kigkonsult.se iCalcreator 2.22.1//
METHOD:REQUEST
X-WR-TIMEZONE:Europe/Athens
BEGIN:VEVENT
UID:https://thessaloniki.kinimatorama.net/event/41584
DTSTAMP:20140628T080000Z
DESCRIPTION:περισσότερες πληροφορίες: https://thessaloniki.kinimatorama.net
 /event/41584 
DTSTART:20140628T080000Z
DTEND:20140628T090000Z
GEO:+38.243607;+21.73548
LOCATION:Πάτρα\, \nΠαντάνασσα
SUMMARY:Αντιφασιστική συγκέντρωση - μικροφωνική
URL:https://thessaloniki.kinimatorama.net/event/41584
END:VEVENT
END:VCALENDAR
