BEGIN:VCALENDAR
VERSION:2.0
PRODID:-//demosphere.net//NONSGML kigkonsult.se iCalcreator 2.22.1//
METHOD:REQUEST
X-WR-TIMEZONE:Europe/Athens
BEGIN:VEVENT
UID:https://thessaloniki.kinimatorama.net/event/41619
DTSTAMP:20140708T060000Z
DESCRIPTION:περισσότερες πληροφορίες: https://thessaloniki.kinimatorama.net
 /event/41619 
DTSTART:20140708T060000Z
DTEND:20140708T070000Z
GEO:+37.995376;+23.743086
LOCATION:Αθήνα\, \nΔικαστήρια Ευελπίδων
SUMMARY:Εκδίκαση της υπόθεσης της δολοφονίας του Νικόλα Τόντι από την αστυν
 ομία
URL:https://thessaloniki.kinimatorama.net/event/41619
END:VEVENT
END:VCALENDAR
