BEGIN:VCALENDAR
VERSION:2.0
PRODID:-//demosphere.net//NONSGML kigkonsult.se iCalcreator 2.22.1//
METHOD:REQUEST
X-WR-TIMEZONE:Europe/Athens
BEGIN:VEVENT
UID:https://thessaloniki.kinimatorama.net/event/41943
DTSTAMP:20140709T070000Z
DESCRIPTION:περισσότερες πληροφορίες: https://thessaloniki.kinimatorama.net
 /event/41943 
DTSTART:20140709T070000Z
DTEND:20140709T080000Z
GEO:+40.639326;+22.932823
LOCATION:Θεσσαλονίκη\, \nΔικαστήρια Θεσσαλονίκης
SUMMARY:Συγκέντρωση αλληλεγγύης στους 5 χθεσινούς συλληφθέντες της Σχολής Θ
 εάτρου
URL:https://thessaloniki.kinimatorama.net/event/41943
END:VEVENT
END:VCALENDAR
