BEGIN:VCALENDAR
VERSION:2.0
PRODID:-//demosphere.net//NONSGML kigkonsult.se iCalcreator 2.22.1//
METHOD:REQUEST
X-WR-TIMEZONE:Europe/Athens
BEGIN:VEVENT
UID:https://thessaloniki.kinimatorama.net/event/41995
DTSTAMP:20140713T170000Z
DESCRIPTION:περισσότερες πληροφορίες: https://thessaloniki.kinimatorama.net
 /event/41995 
DTSTART:20140713T170000Z
DTEND:20140713T180000Z
GEO:+38.243607;+21.73548
LOCATION:Πάτρα\, \nΠαντάνασσα
SUMMARY:Ανοιχτή συνέλευση & προβολή της ταινίας 'This is England'
URL:https://thessaloniki.kinimatorama.net/event/41995
END:VEVENT
END:VCALENDAR
