BEGIN:VCALENDAR
VERSION:2.0
PRODID:-//demosphere.net//NONSGML kigkonsult.se iCalcreator 2.22.1//
METHOD:REQUEST
X-WR-TIMEZONE:Europe/Athens
BEGIN:VEVENT
UID:https://thessaloniki.kinimatorama.net/event/42174
DTSTAMP:20140718T160000Z
DESCRIPTION:περισσότερες πληροφορίες: https://thessaloniki.kinimatorama.net
 /event/42174 
DTSTART:20140718T160000Z
DTEND:20140718T170000Z
GEO:+37.987555;+23.735275
LOCATION:Αθήνα\, \nΚηπάκι της Τσαμαδού \nΤσαμαδού 12 \nΕξάρχεια
SUMMARY:Λαϊκή συνέλευση ενάντια στις μαφίες & τον κοινωνικό κανιβαλισμό
URL:https://thessaloniki.kinimatorama.net/event/42174
END:VEVENT
END:VCALENDAR
