BEGIN:VCALENDAR
VERSION:2.0
PRODID:-//demosphere.net//NONSGML kigkonsult.se iCalcreator 2.22.1//
METHOD:REQUEST
X-WR-TIMEZONE:Europe/Athens
BEGIN:VEVENT
UID:https://thessaloniki.kinimatorama.net/event/42554
DTSTAMP:20140912T153000Z
DESCRIPTION:περισσότερες πληροφορίες: https://thessaloniki.kinimatorama.net
 /event/42554 
DTSTART:20140912T153000Z
DTEND:20140912T163000Z
GEO:+38.012952;+23.695256
LOCATION:Περιστέρι\, \nΔημαρχείο Περιστερίου \nΠλατεία Δημαρχείου \n(Μετρό:
  Περιστέρι\, \nτρόλεϋ: 12\, \nλεωφορεία: Α13\, Β13)
SUMMARY:Πορεία ενάντια στην κρατική καταστολή και τον εκφασισμό της ζωής μα
 ς
URL:https://thessaloniki.kinimatorama.net/event/42554
END:VEVENT
END:VCALENDAR
