BEGIN:VCALENDAR
VERSION:2.0
PRODID:-//demosphere.net//NONSGML kigkonsult.se iCalcreator 2.22.1//
METHOD:REQUEST
X-WR-TIMEZONE:Europe/Athens
BEGIN:VEVENT
UID:https://thessaloniki.kinimatorama.net/event/42777
DTSTAMP:20140926T180000Z
DESCRIPTION:περισσότερες πληροφορίες: https://thessaloniki.kinimatorama.net
 /event/42777 
DTSTART:20140926T180000Z
DTEND:20140926T190000Z
GEO:+37.988037;+23.754651
LOCATION:Αθήνα\, \nΚατειλημμένα Προσφυγικά Λ. Αλεξάνδρας \nΑμπελόκηποι \n(3
 ' περπάτημα από Μετρό Αμπελόκηποι)
SUMMARY:Προβολή ντοκιμαντέρ για τα προσφυγικά της Λ. Αλεξάνδρας
URL:https://thessaloniki.kinimatorama.net/event/42777
END:VEVENT
END:VCALENDAR
