BEGIN:VCALENDAR
VERSION:2.0
PRODID:-//demosphere.net//NONSGML kigkonsult.se iCalcreator 2.22.1//
METHOD:REQUEST
X-WR-TIMEZONE:Europe/Athens
BEGIN:VEVENT
UID:https://thessaloniki.kinimatorama.net/event/43146
DTSTAMP:20141001T060000Z
DESCRIPTION:περισσότερες πληροφορίες: https://thessaloniki.kinimatorama.net
 /event/43146 
DTSTART:20141001T060000Z
DTEND:20141001T070000Z
GEO:+37.995376;+23.743086
LOCATION:Αθήνα\, \nΔικαστήρια Ευελπίδων
SUMMARY:Δίκη του συντρόφου Ν.Β που συνελήφθη κατά την απόπειρα ανακατάληψης
  της Σκαραμαγκά
URL:https://thessaloniki.kinimatorama.net/event/43146
END:VEVENT
END:VCALENDAR
