BEGIN:VCALENDAR
VERSION:2.0
PRODID:-//demosphere.net//NONSGML kigkonsult.se iCalcreator 2.22.1//
METHOD:REQUEST
X-WR-TIMEZONE:Europe/Athens
BEGIN:VEVENT
UID:https://thessaloniki.kinimatorama.net/event/43185
DTSTAMP:20141003T160000Z
DESCRIPTION:περισσότερες πληροφορίες: https://thessaloniki.kinimatorama.net
 /event/43185 
DTSTART:20141003T160000Z
DTEND:20141003T170000Z
GEO:+39.669989;+20.849001
LOCATION:Ιωάννινα\, \nΆλσος οδού Βαλαωρίτου \n(πλατεία Ζαλόγγου)
SUMMARY:Tριήμερο «Οι καταλήψεις σώζουν»
URL:https://thessaloniki.kinimatorama.net/event/43185
END:VEVENT
END:VCALENDAR
