BEGIN:VCALENDAR
VERSION:2.0
PRODID:-//demosphere.net//NONSGML kigkonsult.se iCalcreator 2.22.1//
METHOD:REQUEST
X-WR-TIMEZONE:Europe/Athens
BEGIN:VEVENT
UID:https://thessaloniki.kinimatorama.net/event/43284
DTSTAMP:20141019T083000Z
DESCRIPTION:περισσότερες πληροφορίες: https://thessaloniki.kinimatorama.net
 /event/43284 
DTSTART:20141019T083000Z
DTEND:20141019T093000Z
GEO:+37.984156;+23.735238
LOCATION:Αθήνα\, \nΑυτοδιαχειριζόμενο Πάρκο Ναυαρίνου \nΝαυαρίνου & Ζωοδόχο
 υ Πηγής \nΕξάρχεια
SUMMARY:Κάλεσμα στήριξης στο Πάρκο Ναυαρίνου
URL:https://thessaloniki.kinimatorama.net/event/43284
END:VEVENT
END:VCALENDAR
