BEGIN:VCALENDAR
VERSION:2.0
PRODID:-//demosphere.net//NONSGML kigkonsult.se iCalcreator 2.22.1//
METHOD:REQUEST
X-WR-TIMEZONE:Europe/Athens
BEGIN:VEVENT
UID:https://thessaloniki.kinimatorama.net/event/43430
DTSTAMP:20141005T140000Z
DESCRIPTION:περισσότερες πληροφορίες: https://thessaloniki.kinimatorama.net
 /event/43430 
DTSTART:20141005T140000Z
DTEND:20141005T150000Z
GEO:+37.97569;+23.772792
LOCATION:Ζωγράφου\, \nΠάρκο Ειρήνης \nείσοδος από οδό Γ.Ζωγράφου 13 \nΛεωφο
 ρεία: 608\,235 \nστάση: 6η Ζωγράφου
SUMMARY:Συλλογική κουζίνα & ποδόσφαιρο
URL:https://thessaloniki.kinimatorama.net/event/43430
END:VEVENT
END:VCALENDAR
