BEGIN:VCALENDAR
VERSION:2.0
PRODID:-//demosphere.net//NONSGML kigkonsult.se iCalcreator 2.22.1//
METHOD:REQUEST
X-WR-TIMEZONE:Europe/Athens
BEGIN:VEVENT
UID:https://thessaloniki.kinimatorama.net/event/43733
DTSTAMP:20141015T150000Z
DESCRIPTION:περισσότερες πληροφορίες: https://thessaloniki.kinimatorama.net
 /event/43733 
DTSTART:20141015T150000Z
DTEND:20141015T160000Z
GEO:+35.341459;+25.132416
LOCATION:Ηράκλειο\, \nΚατάληψη Ευαγγελισμού \nΘεοτοκοπούλου 18
SUMMARY:Προβολή-Βιβλιοθήκη-Χαριστικό παζάρι-καφενείο
URL:https://thessaloniki.kinimatorama.net/event/43733
END:VEVENT
END:VCALENDAR
