BEGIN:VCALENDAR
VERSION:2.0
PRODID:-//demosphere.net//NONSGML kigkonsult.se iCalcreator 2.22.1//
METHOD:REQUEST
X-WR-TIMEZONE:Europe/Athens
BEGIN:VEVENT
UID:https://thessaloniki.kinimatorama.net/event/44398
DTSTAMP:20141103T070000Z
DESCRIPTION:περισσότερες πληροφορίες: https://thessaloniki.kinimatorama.net
 /event/44398 
DTSTART:20141103T070000Z
DTEND:20141103T080000Z
GEO:+37.995376;+23.743086
LOCATION:Αθήνα\, \nΔικαστήρια Ευελπίδων
SUMMARY:Συγκέντρωση αλληλεγγύης για τις διώξεις 3 μελών της Λαϊκής Συνέλευσ
 ης Εξαρχείων
URL:https://thessaloniki.kinimatorama.net/event/44398
END:VEVENT
END:VCALENDAR
