BEGIN:VCALENDAR
VERSION:2.0
PRODID:-//demosphere.net//NONSGML kigkonsult.se iCalcreator 2.22.1//
METHOD:REQUEST
X-WR-TIMEZONE:Europe/Athens
BEGIN:VEVENT
UID:https://thessaloniki.kinimatorama.net/event/44468
DTSTAMP:20141104T070000Z
DESCRIPTION:περισσότερες πληροφορίες: https://thessaloniki.kinimatorama.net
 /event/44468 
DTSTART:20141104T070000Z
DTEND:20141104T080000Z
GEO:+40.639326;+22.932823
LOCATION:Θεσσαλονίκη\, \nΔικαστήρια Θεσσαλονίκης
SUMMARY:Δίκη των 16 συλληφθέντων φοιτητών της 17/11/2012
URL:https://thessaloniki.kinimatorama.net/event/44468
END:VEVENT
END:VCALENDAR
