BEGIN:VCALENDAR
VERSION:2.0
PRODID:-//demosphere.net//NONSGML kigkonsult.se iCalcreator 2.22.1//
METHOD:REQUEST
X-WR-TIMEZONE:Europe/Athens
BEGIN:VEVENT
UID:https://thessaloniki.kinimatorama.net/event/44850
DTSTAMP:20141113T143000Z
DESCRIPTION:περισσότερες πληροφορίες: https://thessaloniki.kinimatorama.net
 /event/44850 
DTSTART:20141113T143000Z
DTEND:20141113T153000Z
GEO:+40.633903;+22.95648
LOCATION:Θεσσαλονίκη\, \nΣχολή Θετικών Επιστημών (ΣΘΕ) ΑΠΘ
SUMMARY:ΑΠΘ Unchained: δεύτερη ανοιχτή συνάντηση
URL:https://thessaloniki.kinimatorama.net/event/44850
END:VEVENT
END:VCALENDAR
