BEGIN:VCALENDAR
VERSION:2.0
PRODID:-//demosphere.net//NONSGML kigkonsult.se iCalcreator 2.22.1//
METHOD:REQUEST
X-WR-TIMEZONE:Europe/Athens
BEGIN:VEVENT
UID:https://thessaloniki.kinimatorama.net/event/45011
DTSTAMP:20141213T100000Z
DESCRIPTION:περισσότερες πληροφορίες: https://thessaloniki.kinimatorama.net
 /event/45011 
DTSTART:20141213T100000Z
DTEND:20141213T110000Z
GEO:+37.902452;+23.746449
LOCATION:Αργυρούπολη\, \nπλατεία Λευκωσίας (Ποντίων) \n(σταθμός ΜΕΤΡΟ Αργυρ
 ούπολης)
SUMMARY:(αναβάλλεται) Πορεία προς το πρώην αεροδρόμιο του Ελληνικού
URL:https://thessaloniki.kinimatorama.net/event/45011
END:VEVENT
END:VCALENDAR
