BEGIN:VCALENDAR
VERSION:2.0
PRODID:-//demosphere.net//NONSGML kigkonsult.se iCalcreator 2.22.1//
METHOD:REQUEST
X-WR-TIMEZONE:Europe/Athens
BEGIN:VEVENT
UID:https://thessaloniki.kinimatorama.net/event/45189
DTSTAMP:20141120T143000Z
DESCRIPTION:περισσότερες πληροφορίες: https://thessaloniki.kinimatorama.net
 /event/45189 
DTSTART:20141120T143000Z
DTEND:20141120T153000Z
GEO:+40.633903;+22.95648
LOCATION:Θεσσαλονίκη\, \nΣχολή Θετικών Επιστημών (ΣΘΕ) ΑΠΘ
SUMMARY:ΑΠΘ Unchained: δεύτερη ανοιχτή συνάντηση
URL:https://thessaloniki.kinimatorama.net/event/45189
END:VEVENT
END:VCALENDAR
