BEGIN:VCALENDAR
VERSION:2.0
PRODID:-//demosphere.net//NONSGML kigkonsult.se iCalcreator 2.22.1//
METHOD:REQUEST
X-WR-TIMEZONE:Europe/Athens
BEGIN:VEVENT
UID:https://thessaloniki.kinimatorama.net/event/45492
DTSTAMP:20141202T070000Z
DESCRIPTION:περισσότερες πληροφορίες: https://thessaloniki.kinimatorama.net
 /event/45492 
DTSTART:20141202T070000Z
DTEND:20141202T080000Z
GEO:+40.639326;+22.932823
LOCATION:Θεσσαλονίκη\, \nΔικαστήρια Θεσσαλονίκης
SUMMARY:Δίκη Μποτζατζή-Νικολάου-Συριανού-Χάλαζα
URL:https://thessaloniki.kinimatorama.net/event/45492
END:VEVENT
END:VCALENDAR
