BEGIN:VCALENDAR
VERSION:2.0
PRODID:-//demosphere.net//NONSGML kigkonsult.se iCalcreator 2.22.1//
METHOD:REQUEST
X-WR-TIMEZONE:Europe/Athens
BEGIN:VEVENT
UID:https://thessaloniki.kinimatorama.net/event/45949
DTSTAMP:20141212T210000Z
DESCRIPTION:περισσότερες πληροφορίες: https://thessaloniki.kinimatorama.net
 /event/45949 
DTSTART:20141212T210000Z
DTEND:20141212T220000Z
GEO:+37.959874;+23.719037
LOCATION:Καλλιθέα\, \nΠάντειο Πανεπιστήμιο \nΛ. Συγγρού 136
SUMMARY:Παρτυ οικονομικής ενίσχυσης μετανάστη συντρόφου
URL:https://thessaloniki.kinimatorama.net/event/45949
END:VEVENT
END:VCALENDAR
