BEGIN:VCALENDAR
VERSION:2.0
PRODID:-//demosphere.net//NONSGML kigkonsult.se iCalcreator 2.22.1//
METHOD:REQUEST
X-WR-TIMEZONE:Europe/Athens
BEGIN:VEVENT
UID:https://thessaloniki.kinimatorama.net/event/46086
DTSTAMP:20141207T073000Z
DESCRIPTION:περισσότερες πληροφορίες: https://thessaloniki.kinimatorama.net
 /event/46086 
DTSTART:20141207T073000Z
DTEND:20141207T083000Z
GEO:+40.639326;+22.932823
LOCATION:Θεσσαλονίκη\, \nΔικαστήρια Θεσσαλονίκης
SUMMARY:Καλεσμα αλληλεγγυης  στα δικαστηρια Θεσσαλονικης
URL:https://thessaloniki.kinimatorama.net/event/46086
END:VEVENT
END:VCALENDAR
