BEGIN:VCALENDAR
VERSION:2.0
PRODID:-//demosphere.net//NONSGML kigkonsult.se iCalcreator 2.22.1//
METHOD:REQUEST
X-WR-TIMEZONE:Europe/Athens
BEGIN:VEVENT
UID:https://thessaloniki.kinimatorama.net/event/46918
DTSTAMP:20150109T170000Z
DESCRIPTION:περισσότερες πληροφορίες: https://thessaloniki.kinimatorama.net
 /event/46918 
DTSTART:20150109T170000Z
DTEND:20150109T180000Z
GEO:+39.664199;+20.8541
LOCATION:Ιωάννινα\, \nΑυτοδιαχειριζόμενος Κοινωνικός Χώρος Ιωαννίνων \n( ΑΚ
 ΟΙΧΙ ) \nΠλατεία Νεομάρτυρος Ιωάννη 5 \n(κάτω από το δημοτικό ωδείο)
SUMMARY:Αντιφασιστικό καφενείο με διεθνιστική κουζίνα
URL:https://thessaloniki.kinimatorama.net/event/46918
END:VEVENT
END:VCALENDAR
