BEGIN:VCALENDAR
VERSION:2.0
PRODID:-//demosphere.net//NONSGML kigkonsult.se iCalcreator 2.22.1//
METHOD:REQUEST
X-WR-TIMEZONE:Europe/Athens
BEGIN:VEVENT
UID:https://thessaloniki.kinimatorama.net/event/47190
DTSTAMP:20150112T100000Z
DESCRIPTION:περισσότερες πληροφορίες: https://thessaloniki.kinimatorama.net
 /event/47190 
DTSTART:20150112T100000Z
DTEND:20150112T110000Z
GEO:+40.639326;+22.932823
LOCATION:Θεσσαλονίκη\, \nΔικαστήρια Θεσσαλονίκης
SUMMARY:Κάλεσμα στα δικαστήρια για τη δίκη του ρατσιστή πιστολέρο του Ωραιο
 κάστρου
URL:https://thessaloniki.kinimatorama.net/event/47190
END:VEVENT
END:VCALENDAR
