BEGIN:VCALENDAR
VERSION:2.0
PRODID:-//demosphere.net//NONSGML kigkonsult.se iCalcreator 2.22.1//
METHOD:REQUEST
X-WR-TIMEZONE:Europe/Athens
BEGIN:VEVENT
UID:https://thessaloniki.kinimatorama.net/event/48314
DTSTAMP:20150214T153000Z
DESCRIPTION:περισσότερες πληροφορίες: https://thessaloniki.kinimatorama.net
 /event/48314 
DTSTART:20150214T153000Z
DTEND:20150214T163000Z
GEO:+37.97569;+23.772792
LOCATION:Ζωγράφου\, \nΠάρκο Ειρήνης \nείσοδος από οδό Γ.Ζωγράφου 13 \nΛεωφο
 ρεία: 608\,235 \nστάση: 6η Ζωγράφου
SUMMARY:Συναντήσεις για τον michel fouccault
URL:https://thessaloniki.kinimatorama.net/event/48314
END:VEVENT
END:VCALENDAR
