BEGIN:VCALENDAR
VERSION:2.0
PRODID:-//demosphere.net//NONSGML kigkonsult.se iCalcreator 2.22.1//
METHOD:REQUEST
X-WR-TIMEZONE:Europe/Athens
BEGIN:VEVENT
UID:https://thessaloniki.kinimatorama.net/event/49195
DTSTAMP:20150309T153000Z
DESCRIPTION:περισσότερες πληροφορίες: https://thessaloniki.kinimatorama.net
 /event/49195 
DTSTART:20150309T153000Z
DTEND:20150309T163000Z
GEO:+40.633903;+22.95648
LOCATION:Θεσσαλονίκη\, \nΣχολή Θετικών Επιστημών (ΣΘΕ) ΑΠΘ
SUMMARY:Εκδήλωση-βιβλιοπαρουσίαση: το κουρδικό κίνημα για τη δημοκρατική αυ
 τονομία
URL:https://thessaloniki.kinimatorama.net/event/49195
END:VEVENT
END:VCALENDAR
