BEGIN:VCALENDAR
VERSION:2.0
PRODID:-//demosphere.net//NONSGML kigkonsult.se iCalcreator 2.22.1//
METHOD:REQUEST
X-WR-TIMEZONE:Europe/Athens
BEGIN:VEVENT
UID:https://thessaloniki.kinimatorama.net/event/50126
DTSTAMP:20150327T193000Z
DESCRIPTION:περισσότερες πληροφορίες: https://thessaloniki.kinimatorama.net
 /event/50126 
DTSTART:20150327T193000Z
DTEND:20150327T203000Z
GEO:+40.633903;+22.95648
LOCATION:Θεσσαλονίκη\, \nΣχολή Θετικών Επιστημών (ΣΘΕ) ΑΠΘ
SUMMARY:Προβολή της ταινίας 'The party' & πάρτυ οικονομικής ενίσχυσης
URL:https://thessaloniki.kinimatorama.net/event/50126
END:VEVENT
END:VCALENDAR
