BEGIN:VCALENDAR
VERSION:2.0
PRODID:-//demosphere.net//NONSGML kigkonsult.se iCalcreator 2.22.1//
METHOD:REQUEST
X-WR-TIMEZONE:Europe/Athens
BEGIN:VEVENT
UID:https://thessaloniki.kinimatorama.net/event/50134
DTSTAMP:20150326T183000Z
DESCRIPTION:περισσότερες πληροφορίες: https://thessaloniki.kinimatorama.net
 /event/50134 
DTSTART:20150326T183000Z
DTEND:20150326T193000Z
GEO:+35.341459;+25.132416
LOCATION:Ηράκλειο\, \nΚατάληψη Ευαγγελισμού \nΘεοτοκοπούλου 18
SUMMARY:Συνέλευση για την απεργία πείνας των πολιτικών κρατουμένων
URL:https://thessaloniki.kinimatorama.net/event/50134
END:VEVENT
END:VCALENDAR
