BEGIN:VCALENDAR
VERSION:2.0
PRODID:-//demosphere.net//NONSGML kigkonsult.se iCalcreator 2.22.1//
METHOD:REQUEST
X-WR-TIMEZONE:Europe/Athens
BEGIN:VEVENT
UID:https://thessaloniki.kinimatorama.net/event/50158
DTSTAMP:20150328T170000Z
DESCRIPTION:περισσότερες πληροφορίες: https://thessaloniki.kinimatorama.net
 /event/50158 
DTSTART:20150328T170000Z
DTEND:20150328T180000Z
GEO:+35.341459;+25.132416
LOCATION:Ηράκλειο\, \nΚατάληψη Ευαγγελισμού \nΘεοτοκοπούλου 18
SUMMARY:Διήμερο ενημέρωσης για την καταστολή στον Ευρωπαϊκό Νότο
URL:https://thessaloniki.kinimatorama.net/event/50158
END:VEVENT
END:VCALENDAR
