BEGIN:VCALENDAR
VERSION:2.0
PRODID:-//demosphere.net//NONSGML kigkonsult.se iCalcreator 2.22.1//
METHOD:REQUEST
X-WR-TIMEZONE:Europe/Athens
BEGIN:VEVENT
UID:https://thessaloniki.kinimatorama.net/event/51140
DTSTAMP:20150424T060000Z
DESCRIPTION:περισσότερες πληροφορίες: https://thessaloniki.kinimatorama.net
 /event/51140 
DTSTART:20150424T060000Z
DTEND:20150424T070000Z
GEO:+40.639326;+22.932823
LOCATION:Θεσσαλονίκη\, \nΔικαστήρια Θεσσαλονίκης
SUMMARY:Συγκέντρωση αλληλεγύης με το σωματείο της ΒΙΟΜΕ
URL:https://thessaloniki.kinimatorama.net/event/51140
END:VEVENT
END:VCALENDAR
