BEGIN:VCALENDAR
VERSION:2.0
PRODID:-//demosphere.net//NONSGML kigkonsult.se iCalcreator 2.22.1//
METHOD:REQUEST
X-WR-TIMEZONE:Europe/Athens
BEGIN:VEVENT
UID:https://thessaloniki.kinimatorama.net/event/51593
DTSTAMP:20150501T190000Z
DESCRIPTION:περισσότερες πληροφορίες: https://thessaloniki.kinimatorama.net
 /event/51593 
DTSTART:20150501T190000Z
DTEND:20150501T200000Z
GEO:+35.341459;+25.132416
LOCATION:Ηράκλειο\, \nΚατάληψη Ευαγγελισμού \nΘεοτοκοπούλου 18
SUMMARY:Καφενείο οικονομικής ενίσχυσης της συν.αλ.φ.α.
URL:https://thessaloniki.kinimatorama.net/event/51593
END:VEVENT
END:VCALENDAR
