BEGIN:VCALENDAR
VERSION:2.0
PRODID:-//demosphere.net//NONSGML kigkonsult.se iCalcreator 2.22.1//
METHOD:REQUEST
X-WR-TIMEZONE:Europe/Athens
BEGIN:VEVENT
UID:https://thessaloniki.kinimatorama.net/event/516
DTSTAMP:20091113T190000Z
DESCRIPTION:περισσότερες πληροφορίες: https://thessaloniki.kinimatorama.net
 /event/516 
DTSTART:20091113T190000Z
DTEND:20091113T200000Z
GEO:+38.00095;+23.737762
LOCATION:Αθήνα\, \nΔημοτική Αγορά Κυψέλης \nΦωκίωνος Νέγρη 42
SUMMARY:Προβολή: Η κρίση του Καπιταλισμού - Τι σημαίνει να ζει κανείς\;
URL:https://thessaloniki.kinimatorama.net/event/516
END:VEVENT
END:VCALENDAR
